Package: HDTD Version: 1.42.0 Command: chmod a+r HDTD -R && E:\biocbuild\bbs-3.21-bioc\R\bin\R.exe CMD build --keep-empty-dirs --no-resave-data HDTD StartedAt: 2025-08-14 19:38:49 -0400 (Thu, 14 Aug 2025) EndedAt: 2025-08-14 19:39:52 -0400 (Thu, 14 Aug 2025) EllapsedTime: 63.2 seconds RetCode: 0 Status: OK PackageFile: HDTD_1.42.0.tar.gz PackageFileSize: 162.8 KiB