Package: HDTD Version: 1.42.0 Command: rm -rf HDTD.buildbin-libdir && mkdir HDTD.buildbin-libdir && E:\biocbuild\bbs-3.21-bioc\R\bin\R.exe CMD INSTALL --build --library=HDTD.buildbin-libdir HDTD_1.42.0.tar.gz StartedAt: 2025-08-15 09:28:00 -0400 (Fri, 15 Aug 2025) EndedAt: 2025-08-15 09:30:14 -0400 (Fri, 15 Aug 2025) EllapsedTime: 133.6 seconds RetCode: 0 Status: OK PackageFile: HDTD_1.42.0.zip PackageFileSize: 708.2 KiB