Package: HDTD Version: 1.42.0 Command: /home/biocbuild/bbs-3.21-bioc/R/bin/R CMD check --install=check:HDTD.install-out.txt --library=/home/biocbuild/bbs-3.21-bioc/R/site-library --timings HDTD_1.42.0.tar.gz StartedAt: 2025-10-15 23:59:59 -0400 (Wed, 15 Oct 2025) EndedAt: 2025-10-16 00:00:21 -0400 (Thu, 16 Oct 2025) EllapsedTime: 22.0 seconds RetCode: 0 Status: OK CheckDir: HDTD.Rcheck Warnings: 0