Package: HDTD Version: 1.42.0 Command: /home/biocbuild/bbs-3.21-bioc/R/bin/R CMD build --keep-empty-dirs --no-resave-data HDTD StartedAt: 2025-10-15 17:56:11 -0400 (Wed, 15 Oct 2025) EndedAt: 2025-10-15 17:56:41 -0400 (Wed, 15 Oct 2025) EllapsedTime: 29.2 seconds RetCode: 0 Status: OK PackageFile: HDTD_1.42.0.tar.gz PackageFileSize: 162.8 KiB