Package: HDTD Version: 1.42.0 Command: /Library/Frameworks/R.framework/Resources/bin/R CMD INSTALL HDTD StartedAt: 2025-10-13 15:11:53 -0400 (Mon, 13 Oct 2025) EndedAt: 2025-10-13 15:12:57 -0400 (Mon, 13 Oct 2025) EllapsedTime: 64.4 seconds RetCode: 0 Status: OK