Package: HDTD Version: 1.42.0 Command: /Library/Frameworks/R.framework/Resources/bin/R CMD build --keep-empty-dirs --no-resave-data HDTD StartedAt: 2025-10-13 19:39:52 -0400 (Mon, 13 Oct 2025) EndedAt: 2025-10-13 19:40:46 -0400 (Mon, 13 Oct 2025) EllapsedTime: 53.8 seconds RetCode: 0 Status: OK PackageFile: HDTD_1.42.0.tar.gz PackageFileSize: 162.8 KiB