Package: HDTD Version: 1.42.0 Command: /home/biocbuild/R/R/bin/R CMD check --install=check:HDTD.install-out.txt --library=/home/biocbuild/R/R/site-library --no-vignettes --timings HDTD_1.42.0.tar.gz StartedAt: 2025-10-14 10:02:23 -0000 (Tue, 14 Oct 2025) EndedAt: 2025-10-14 10:04:26 -0000 (Tue, 14 Oct 2025) EllapsedTime: 123.0 seconds RetCode: 0 Status: OK CheckDir: HDTD.Rcheck Warnings: 0