Package: Gviz Version: 1.52.0 Command: E:\biocbuild\bbs-3.21-bioc\R\bin\R.exe CMD check --no-multiarch --install=check:Gviz.install-out.txt --library=E:\biocbuild\bbs-3.21-bioc\R\library --no-vignettes --timings Gviz_1.52.0.tar.gz StartedAt: 2025-08-15 02:57:53 -0400 (Fri, 15 Aug 2025) EndedAt: 2025-08-15 03:12:10 -0400 (Fri, 15 Aug 2025) EllapsedTime: 857.8 seconds RetCode: 0 Status: OK CheckDir: Gviz.Rcheck Warnings: 0