Package: Gviz Version: 1.52.0 Command: rm -rf Gviz.buildbin-libdir && mkdir Gviz.buildbin-libdir && E:\biocbuild\bbs-3.21-bioc\R\bin\R.exe CMD INSTALL --build --library=Gviz.buildbin-libdir Gviz_1.52.0.tar.gz StartedAt: 2025-08-15 09:27:06 -0400 (Fri, 15 Aug 2025) EndedAt: 2025-08-15 09:29:33 -0400 (Fri, 15 Aug 2025) EllapsedTime: 146.7 seconds RetCode: 0 Status: OK PackageFile: Gviz_1.52.0.zip PackageFileSize: 5.964 MiB