Package: Gviz Version: 1.52.0 Command: /home/biocbuild/R/R/bin/R CMD INSTALL Gviz StartedAt: 2025-10-13 21:01:11 -0000 (Mon, 13 Oct 2025) EndedAt: 2025-10-13 21:02:44 -0000 (Mon, 13 Oct 2025) EllapsedTime: 92.5 seconds RetCode: 0 Status: OK