Package: Gviz Version: 1.52.0 Command: /home/biocbuild/R/R/bin/R CMD build --keep-empty-dirs --no-resave-data Gviz StartedAt: 2025-10-14 01:32:05 -0000 (Tue, 14 Oct 2025) EndedAt: 2025-10-14 01:37:01 -0000 (Tue, 14 Oct 2025) EllapsedTime: 296.1 seconds RetCode: 0 Status: OK PackageFile: Gviz_1.52.0.tar.gz PackageFileSize: 7.012 MiB