Package: Guitar Version: 2.24.0 Command: /home/biocbuild/bbs-3.21-bioc/R/bin/R CMD build --keep-empty-dirs --no-resave-data Guitar StartedAt: 2025-10-15 17:53:51 -0400 (Wed, 15 Oct 2025) EndedAt: 2025-10-15 18:03:18 -0400 (Wed, 15 Oct 2025) EllapsedTime: 566.8 seconds RetCode: 0 Status: OK PackageFile: Guitar_2.24.0.tar.gz PackageFileSize: 3.72 MiB