Package: Guitar Version: 2.24.0 Command: /Library/Frameworks/R.framework/Resources/bin/R CMD check --install=check:Guitar.install-out.txt --library=/Library/Frameworks/R.framework/Resources/library --no-vignettes --timings Guitar_2.24.0.tar.gz StartedAt: 2025-10-14 23:59:41 -0400 (Tue, 14 Oct 2025) EndedAt: 2025-10-15 00:05:44 -0400 (Wed, 15 Oct 2025) EllapsedTime: 362.2 seconds RetCode: 0 Status: OK CheckDir: Guitar.Rcheck Warnings: 0