Package: GreyListChIP Version: 1.40.0 Command: /home/biocbuild/R/R/bin/R CMD check --install=check:GreyListChIP.install-out.txt --library=/home/biocbuild/R/R/site-library --no-vignettes --timings GreyListChIP_1.40.0.tar.gz StartedAt: 2025-10-14 09:54:09 -0000 (Tue, 14 Oct 2025) EndedAt: 2025-10-14 09:59:49 -0000 (Tue, 14 Oct 2025) EllapsedTime: 339.3 seconds RetCode: 0 Status: OK CheckDir: GreyListChIP.Rcheck Warnings: 0