Package: GreyListChIP Version: 1.40.0 Command: /Library/Frameworks/R.framework/Resources/bin/R CMD INSTALL GreyListChIP StartedAt: 2025-10-13 16:42:22 -0400 (Mon, 13 Oct 2025) EndedAt: 2025-10-13 16:43:02 -0400 (Mon, 13 Oct 2025) EllapsedTime: 40.0 seconds RetCode: 0 Status: OK