Package: GraphPAC Version: 1.50.0 Command: E:\biocbuild\bbs-3.21-bioc\R\bin\R.exe CMD INSTALL GraphPAC StartedAt: 2025-08-14 16:01:24 -0400 (Thu, 14 Aug 2025) EndedAt: 2025-08-14 16:01:45 -0400 (Thu, 14 Aug 2025) EllapsedTime: 20.8 seconds RetCode: 0 Status: OK