Package: GraphPAC Version: 1.50.0 Command: /home/biocbuild/bbs-3.21-bioc/R/bin/R CMD check --install=check:GraphPAC.install-out.txt --library=/home/biocbuild/bbs-3.21-bioc/R/site-library --timings GraphPAC_1.50.0.tar.gz StartedAt: 2025-10-15 23:52:47 -0400 (Wed, 15 Oct 2025) EndedAt: 2025-10-15 23:54:57 -0400 (Wed, 15 Oct 2025) EllapsedTime: 130.2 seconds RetCode: 0 Status: OK CheckDir: GraphPAC.Rcheck Warnings: 0