Package: GraphPAC Version: 1.50.0 Command: /Library/Frameworks/R.framework/Resources/bin/R CMD check --install=check:GraphPAC.install-out.txt --library=/Library/Frameworks/R.framework/Resources/library --no-vignettes --timings GraphPAC_1.50.0.tar.gz StartedAt: 2025-10-14 04:47:46 -0400 (Tue, 14 Oct 2025) EndedAt: 2025-10-14 04:50:10 -0400 (Tue, 14 Oct 2025) EllapsedTime: 144.0 seconds RetCode: 0 Status: OK CheckDir: GraphPAC.Rcheck Warnings: 0