Package: GraphPAC Version: 1.50.0 Command: /home/biocbuild/R/R/bin/R CMD INSTALL GraphPAC StartedAt: 2025-10-13 21:07:42 -0000 (Mon, 13 Oct 2025) EndedAt: 2025-10-13 21:08:02 -0000 (Mon, 13 Oct 2025) EllapsedTime: 20.0 seconds RetCode: 0 Status: OK