Package: GraphPAC Version: 1.50.0 Command: /home/biocbuild/R/R/bin/R CMD check --install=check:GraphPAC.install-out.txt --library=/home/biocbuild/R/R/site-library --no-vignettes --timings GraphPAC_1.50.0.tar.gz StartedAt: 2025-10-14 09:53:41 -0000 (Tue, 14 Oct 2025) EndedAt: 2025-10-14 09:55:11 -0000 (Tue, 14 Oct 2025) EllapsedTime: 89.1 seconds RetCode: 0 Status: OK CheckDir: GraphPAC.Rcheck Warnings: 0