Package: GraphPAC Version: 1.50.0 Command: /home/biocbuild/R/R/bin/R CMD build --keep-empty-dirs --no-resave-data GraphPAC StartedAt: 2025-10-14 01:27:55 -0000 (Tue, 14 Oct 2025) EndedAt: 2025-10-14 01:30:02 -0000 (Tue, 14 Oct 2025) EllapsedTime: 127.0 seconds RetCode: 0 Status: OK PackageFile: GraphPAC_1.50.0.tar.gz PackageFileSize: 698.7 KiB