Package: GraphPAC Version: 1.50.0 Command: /Library/Frameworks/R.framework/Resources/bin/R CMD INSTALL GraphPAC StartedAt: 2025-10-13 18:00:16 -0400 (Mon, 13 Oct 2025) EndedAt: 2025-10-13 18:00:33 -0400 (Mon, 13 Oct 2025) EllapsedTime: 16.4 seconds RetCode: 0 Status: OK