Package: GrafGen Version: 1.4.0 Command: /home/biocbuild/bbs-3.21-bioc/R/bin/R CMD INSTALL GrafGen StartedAt: 2025-10-15 15:15:41 -0400 (Wed, 15 Oct 2025) EndedAt: 2025-10-15 15:16:04 -0400 (Wed, 15 Oct 2025) EllapsedTime: 23.6 seconds RetCode: 0 Status: OK