Package: GrafGen Version: 1.4.0 Command: /Library/Frameworks/R.framework/Resources/bin/R CMD check --install=check:GrafGen.install-out.txt --library=/Library/Frameworks/R.framework/Resources/library --no-vignettes --timings GrafGen_1.4.0.tar.gz StartedAt: 2025-04-21 21:06:42 -0400 (Mon, 21 Apr 2025) EndedAt: 2025-04-21 21:08:42 -0400 (Mon, 21 Apr 2025) EllapsedTime: 119.8 seconds RetCode: 0 Status: WARNINGS CheckDir: GrafGen.Rcheck Warnings: 1