Package: GrafGen Version: 1.4.0 Command: rm -rf GrafGen.buildbin-libdir && mkdir GrafGen.buildbin-libdir && /Users/biocbuild/BBS/utils/build-universal.sh GrafGen_1.4.0.tar.gz /Library/Frameworks/R.framework/Resources/bin/R GrafGen.buildbin-libdir StartedAt: 2025-04-22 00:48:31 -0400 (Tue, 22 Apr 2025) EndedAt: 2025-04-22 00:49:07 -0400 (Tue, 22 Apr 2025) EllapsedTime: 35.9 seconds RetCode: 0 Status: OK PackageFile: GrafGen_1.4.0.tgz PackageFileSize: 3.214 MiB