Package: GlobalAncova Version: 4.26.0 Command: rm -rf GlobalAncova.buildbin-libdir && mkdir GlobalAncova.buildbin-libdir && E:\biocbuild\bbs-3.21-bioc\R\bin\R.exe CMD INSTALL --build --library=GlobalAncova.buildbin-libdir GlobalAncova_4.26.0.tar.gz StartedAt: 2025-08-15 09:24:40 -0400 (Fri, 15 Aug 2025) EndedAt: 2025-08-15 09:25:47 -0400 (Fri, 15 Aug 2025) EllapsedTime: 66.3 seconds RetCode: 0 Status: OK PackageFile: GlobalAncova_4.26.0.zip PackageFileSize: 1.362 MiB