Package: GlobalAncova Version: 4.26.0 Command: /home/biocbuild/bbs-3.21-bioc/R/bin/R CMD check --install=check:GlobalAncova.install-out.txt --library=/home/biocbuild/bbs-3.21-bioc/R/site-library --timings GlobalAncova_4.26.0.tar.gz StartedAt: 2025-10-15 23:44:59 -0400 (Wed, 15 Oct 2025) EndedAt: 2025-10-15 23:54:55 -0400 (Wed, 15 Oct 2025) EllapsedTime: 595.8 seconds RetCode: 0 Status: WARNINGS CheckDir: GlobalAncova.Rcheck Warnings: 1