Package: GlobalAncova Version: 4.26.0 Command: /home/biocbuild/bbs-3.21-bioc/R/bin/R CMD build --keep-empty-dirs --no-resave-data GlobalAncova StartedAt: 2025-10-15 17:45:29 -0400 (Wed, 15 Oct 2025) EndedAt: 2025-10-15 17:52:26 -0400 (Wed, 15 Oct 2025) EllapsedTime: 417.3 seconds RetCode: 0 Status: OK PackageFile: GlobalAncova_4.26.0.tar.gz PackageFileSize: 1.208 MiB