Package: GlobalAncova Version: 4.26.0 Command: /Library/Frameworks/R.framework/Resources/bin/R CMD build --keep-empty-dirs --no-resave-data GlobalAncova StartedAt: 2025-04-21 16:29:27 -0400 (Mon, 21 Apr 2025) EndedAt: 2025-04-21 16:32:32 -0400 (Mon, 21 Apr 2025) EllapsedTime: 185.0 seconds RetCode: 0 Status: OK PackageFile: GlobalAncova_4.26.0.tar.gz PackageFileSize: 1.208 MiB