Package: GlobalAncova Version: 4.26.0 Command: /Library/Frameworks/R.framework/Resources/bin/R CMD INSTALL GlobalAncova StartedAt: 2025-10-13 15:52:30 -0400 (Mon, 13 Oct 2025) EndedAt: 2025-10-13 15:52:58 -0400 (Mon, 13 Oct 2025) EllapsedTime: 28.4 seconds RetCode: 0 Status: OK