Package: GlobalAncova Version: 4.26.0 Command: /Library/Frameworks/R.framework/Resources/bin/R CMD check --install=check:GlobalAncova.install-out.txt --library=/Library/Frameworks/R.framework/Resources/library --no-vignettes --timings GlobalAncova_4.26.0.tar.gz StartedAt: 2025-10-14 23:26:36 -0400 (Tue, 14 Oct 2025) EndedAt: 2025-10-14 23:29:51 -0400 (Tue, 14 Oct 2025) EllapsedTime: 194.9 seconds RetCode: 0 Status: WARNINGS CheckDir: GlobalAncova.Rcheck Warnings: 1