Package: GloScope Version: 1.6.0 Command: /Library/Frameworks/R.framework/Resources/bin/R CMD INSTALL GloScope StartedAt: 2025-10-13 15:37:39 -0400 (Mon, 13 Oct 2025) EndedAt: 2025-10-13 15:38:33 -0400 (Mon, 13 Oct 2025) EllapsedTime: 54.3 seconds RetCode: 0 Status: OK