Package: GloScope Version: 1.6.0 Command: /Library/Frameworks/R.framework/Resources/bin/R CMD INSTALL GloScope StartedAt: 2025-04-21 15:19:38 -0400 (Mon, 21 Apr 2025) EndedAt: 2025-04-21 15:20:10 -0400 (Mon, 21 Apr 2025) EllapsedTime: 32.8 seconds RetCode: 0 Status: OK