Package: GloScope Version: 1.6.0 Command: /home/biocbuild/R/R/bin/R CMD INSTALL GloScope StartedAt: 2025-10-13 20:33:58 -0000 (Mon, 13 Oct 2025) EndedAt: 2025-10-13 20:34:34 -0000 (Mon, 13 Oct 2025) EllapsedTime: 35.9 seconds RetCode: 0 Status: OK