Package: GloScope Version: 1.6.0 Command: /Library/Frameworks/R.framework/Resources/bin/R CMD INSTALL GloScope StartedAt: 2025-10-13 16:17:05 -0400 (Mon, 13 Oct 2025) EndedAt: 2025-10-13 16:17:35 -0400 (Mon, 13 Oct 2025) EllapsedTime: 29.9 seconds RetCode: 0 Status: OK