Package: GloScope Version: 1.6.0 Command: /Library/Frameworks/R.framework/Resources/bin/R CMD build --keep-empty-dirs --no-resave-data GloScope StartedAt: 2025-10-14 01:23:34 -0400 (Tue, 14 Oct 2025) EndedAt: 2025-10-14 01:24:43 -0400 (Tue, 14 Oct 2025) EllapsedTime: 68.7 seconds RetCode: 0 Status: OK PackageFile: GloScope_1.6.0.tar.gz PackageFileSize: 2.634 MiB