Package: Glimma Version: 2.18.0 Command: /home/biocbuild/bbs-3.21-bioc/R/bin/R CMD check --install=check:Glimma.install-out.txt --library=/home/biocbuild/bbs-3.21-bioc/R/site-library --timings Glimma_2.18.0.tar.gz StartedAt: 2025-10-01 23:43:42 -0400 (Wed, 01 Oct 2025) EndedAt: 2025-10-01 23:56:44 -0400 (Wed, 01 Oct 2025) EllapsedTime: 782.2 seconds RetCode: 0 Status: OK CheckDir: Glimma.Rcheck Warnings: 0