Package: Glimma Version: 2.18.0 Command: /Library/Frameworks/R.framework/Resources/bin/R CMD INSTALL Glimma StartedAt: 2025-10-13 15:40:03 -0400 (Mon, 13 Oct 2025) EndedAt: 2025-10-13 15:41:04 -0400 (Mon, 13 Oct 2025) EllapsedTime: 60.9 seconds RetCode: 0 Status: OK