Package: Glimma Version: 2.18.0 Command: /Library/Frameworks/R.framework/Resources/bin/R CMD build --keep-empty-dirs --no-resave-data Glimma StartedAt: 2025-10-13 19:24:53 -0400 (Mon, 13 Oct 2025) EndedAt: 2025-10-13 19:43:40 -0400 (Mon, 13 Oct 2025) EllapsedTime: 1127.1 seconds RetCode: 0 Status: OK PackageFile: Glimma_2.18.0.tar.gz PackageFileSize: 11.12 MiB