Package: Glimma Version: 2.18.0 Command: /home/biocbuild/R/R/bin/R CMD check --install=check:Glimma.install-out.txt --library=/home/biocbuild/R/R/site-library --no-vignettes --timings Glimma_2.18.0.tar.gz StartedAt: 2025-09-30 10:11:55 -0000 (Tue, 30 Sep 2025) EndedAt: 2025-09-30 10:19:04 -0000 (Tue, 30 Sep 2025) EllapsedTime: 429.2 seconds RetCode: 0 Status: OK CheckDir: Glimma.Rcheck Warnings: 0