Package: GladiaTOX Version: 1.24.2 Command: /home/biocbuild/R/R/bin/R CMD INSTALL GladiaTOX StartedAt: 2025-10-13 20:19:42 -0000 (Mon, 13 Oct 2025) EndedAt: 2025-10-13 20:20:07 -0000 (Mon, 13 Oct 2025) EllapsedTime: 25.0 seconds RetCode: 0 Status: OK