Package: GenomicTuples Version: 1.42.0 Command: /home/biocbuild/R/R/bin/R CMD INSTALL GenomicTuples StartedAt: 2025-10-13 20:45:52 -0000 (Mon, 13 Oct 2025) EndedAt: 2025-10-13 20:46:33 -0000 (Mon, 13 Oct 2025) EllapsedTime: 41.1 seconds RetCode: 0 Status: OK