Package: GenomicTuples Version: 1.42.0 Command: /home/biocbuild/R/R/bin/R CMD build --keep-empty-dirs --no-resave-data GenomicTuples StartedAt: 2025-10-14 01:07:36 -0000 (Tue, 14 Oct 2025) EndedAt: 2025-10-14 01:08:30 -0000 (Tue, 14 Oct 2025) EllapsedTime: 54.0 seconds RetCode: 0 Status: OK PackageFile: GenomicTuples_1.42.0.tar.gz PackageFileSize: 327.7 KiB