Package: GenomicTuples Version: 1.42.0 Command: /Library/Frameworks/R.framework/Resources/bin/R CMD INSTALL GenomicTuples StartedAt: 2025-10-13 16:50:33 -0400 (Mon, 13 Oct 2025) EndedAt: 2025-10-13 16:51:02 -0400 (Mon, 13 Oct 2025) EllapsedTime: 29.9 seconds RetCode: 0 Status: OK