Package: GenomicTuples Version: 1.42.0 Command: /Library/Frameworks/R.framework/Resources/bin/R CMD check --install=check:GenomicTuples.install-out.txt --library=/Library/Frameworks/R.framework/Resources/library --no-vignettes --timings GenomicTuples_1.42.0.tar.gz StartedAt: 2025-10-14 22:55:23 -0400 (Tue, 14 Oct 2025) EndedAt: 2025-10-14 22:57:38 -0400 (Tue, 14 Oct 2025) EllapsedTime: 135.0 seconds RetCode: 0 Status: OK CheckDir: GenomicTuples.Rcheck Warnings: 0