Package: GenomicTuples Version: 1.42.0 Command: /Library/Frameworks/R.framework/Resources/bin/R CMD build --keep-empty-dirs --no-resave-data GenomicTuples StartedAt: 2025-10-14 01:04:52 -0400 (Tue, 14 Oct 2025) EndedAt: 2025-10-14 01:05:35 -0400 (Tue, 14 Oct 2025) EllapsedTime: 43.3 seconds RetCode: 0 Status: OK PackageFile: GenomicTuples_1.42.0.tar.gz PackageFileSize: 303.1 KiB