Package: GenomicSuperSignature Version: 1.16.1 Command: /home/biocbuild/bbs-3.21-bioc/R/bin/R CMD INSTALL GenomicSuperSignature StartedAt: 2025-10-15 15:30:48 -0400 (Wed, 15 Oct 2025) EndedAt: 2025-10-15 15:31:18 -0400 (Wed, 15 Oct 2025) EllapsedTime: 30.2 seconds RetCode: 0 Status: OK