Package: GenomicSuperSignature Version: 1.16.1 Command: /home/biocbuild/bbs-3.21-bioc/R/bin/R CMD build --keep-empty-dirs --no-resave-data GenomicSuperSignature StartedAt: 2025-10-15 17:41:13 -0400 (Wed, 15 Oct 2025) EndedAt: 2025-10-15 17:44:19 -0400 (Wed, 15 Oct 2025) EllapsedTime: 185.2 seconds RetCode: 0 Status: OK PackageFile: GenomicSuperSignature_1.16.1.tar.gz PackageFileSize: 6.294 MiB