Package: GenomicSuperSignature Version: 1.16.1 Command: /Library/Frameworks/R.framework/Resources/bin/R CMD check --install=check:GenomicSuperSignature.install-out.txt --library=/Library/Frameworks/R.framework/Resources/library --no-vignettes --timings GenomicSuperSignature_1.16.1.tar.gz StartedAt: 2025-10-14 04:19:23 -0400 (Tue, 14 Oct 2025) EndedAt: 2025-10-14 04:28:16 -0400 (Tue, 14 Oct 2025) EllapsedTime: 532.8 seconds RetCode: 0 Status: WARNINGS CheckDir: GenomicSuperSignature.Rcheck Warnings: 2