Package: GenomicSuperSignature Version: 1.16.0 Command: /Library/Frameworks/R.framework/Resources/bin/R CMD check --install=check:GenomicSuperSignature.install-out.txt --library=/Library/Frameworks/R.framework/Resources/library --no-vignettes --timings GenomicSuperSignature_1.16.0.tar.gz StartedAt: 2025-04-21 20:56:18 -0400 (Mon, 21 Apr 2025) EndedAt: 2025-04-21 21:01:03 -0400 (Mon, 21 Apr 2025) EllapsedTime: 285.3 seconds RetCode: 0 Status: WARNINGS CheckDir: GenomicSuperSignature.Rcheck Warnings: 2